BEGIN:VCALENDAR
METHOD:REQUEST
PRODID:-//events.orgNONSGML ical.net 4.0//EN
VERSION:2.0
BEGIN:VEVENT
DTEND;VALUE=DATE:20251205
DTSTAMP:20260420T142529Z
DTSTART;VALUE=DATE:20251205
LOCATION:Mortgage Matchup Center (formerly PHX Arena)\, Phoenix
ORGANIZER;CN=:mailto:events@events.org
SEQUENCE:0
SUMMARY:Shane Gillis Live
UID:6a921dc0-a02b-4e8e-b17f-7511d33cebf9
URL:https://events.org/e/Shane-Gillis-Live/PW4MTMTJ
BEGIN:VALARM
ACTION:DISPLAY
SUMMARY:Reminder
TRIGGER:-P1D
END:VALARM
END:VEVENT
END:VCALENDAR
